BEGIN:VCALENDAR
VERSION:2.0
PRODID:-//Fulcrum Nonprofit Leadership - ECPv6.15.17//NONSGML v1.0//EN
CALSCALE:GREGORIAN
METHOD:PUBLISH
X-WR-CALNAME:Fulcrum Nonprofit Leadership
X-ORIGINAL-URL:https://fulcrumleader.com
X-WR-CALDESC:Events for Fulcrum Nonprofit Leadership
REFRESH-INTERVAL;VALUE=DURATION:PT1H
X-Robots-Tag:noindex
X-PUBLISHED-TTL:PT1H
BEGIN:VTIMEZONE
TZID:America/Los_Angeles
BEGIN:DAYLIGHT
TZOFFSETFROM:-0800
TZOFFSETTO:-0700
TZNAME:PDT
DTSTART:20240310T100000
END:DAYLIGHT
BEGIN:STANDARD
TZOFFSETFROM:-0700
TZOFFSETTO:-0800
TZNAME:PST
DTSTART:20241103T090000
END:STANDARD
BEGIN:DAYLIGHT
TZOFFSETFROM:-0800
TZOFFSETTO:-0700
TZNAME:PDT
DTSTART:20250309T100000
END:DAYLIGHT
BEGIN:STANDARD
TZOFFSETFROM:-0700
TZOFFSETTO:-0800
TZNAME:PST
DTSTART:20251102T090000
END:STANDARD
BEGIN:DAYLIGHT
TZOFFSETFROM:-0800
TZOFFSETTO:-0700
TZNAME:PDT
DTSTART:20260308T100000
END:DAYLIGHT
BEGIN:STANDARD
TZOFFSETFROM:-0700
TZOFFSETTO:-0800
TZNAME:PST
DTSTART:20261101T090000
END:STANDARD
END:VTIMEZONE
BEGIN:VEVENT
DTSTART;VALUE=DATE:20251213
DTEND;VALUE=DATE:20251214
DTSTAMP:20260423T092452
CREATED:20251205T003113Z
LAST-MODIFIED:20251205T003113Z
UID:10000683-1765584000-1765670399@fulcrumleader.com
SUMMARY:National Unity Day (www.us-united.org)
DESCRIPTION:Support Fulcrum member Adam Mizel (CEO of US United) and a great cause. \nwww.US-united.org
URL:https://fulcrumleader.com/event/national-unity-day-www-us-united-org__trashed-2/
ATTACH;FMTTYPE=image/png:https://fulcrumleader.com/wp-content/uploads/2025/11/National-Unity-Day.png
END:VEVENT
END:VCALENDAR