BEGIN:VCALENDAR
VERSION:2.0
PRODID:-//Fulcrum Nonprofit Leadership - ECPv6.15.17//NONSGML v1.0//EN
CALSCALE:GREGORIAN
METHOD:PUBLISH
X-ORIGINAL-URL:https://fulcrumleader.com
X-WR-CALDESC:Events for Fulcrum Nonprofit Leadership
REFRESH-INTERVAL;VALUE=DURATION:PT1H
X-Robots-Tag:noindex
X-PUBLISHED-TTL:PT1H
BEGIN:VTIMEZONE
TZID:America/Los_Angeles
BEGIN:DAYLIGHT
TZOFFSETFROM:-0800
TZOFFSETTO:-0700
TZNAME:PDT
DTSTART:20250309T100000
END:DAYLIGHT
BEGIN:STANDARD
TZOFFSETFROM:-0700
TZOFFSETTO:-0800
TZNAME:PST
DTSTART:20251102T090000
END:STANDARD
BEGIN:DAYLIGHT
TZOFFSETFROM:-0800
TZOFFSETTO:-0700
TZNAME:PDT
DTSTART:20260308T100000
END:DAYLIGHT
BEGIN:STANDARD
TZOFFSETFROM:-0700
TZOFFSETTO:-0800
TZNAME:PST
DTSTART:20261101T090000
END:STANDARD
BEGIN:DAYLIGHT
TZOFFSETFROM:-0800
TZOFFSETTO:-0700
TZNAME:PDT
DTSTART:20270314T100000
END:DAYLIGHT
BEGIN:STANDARD
TZOFFSETFROM:-0700
TZOFFSETTO:-0800
TZNAME:PST
DTSTART:20271107T090000
END:STANDARD
BEGIN:DAYLIGHT
TZOFFSETFROM:-0800
TZOFFSETTO:-0700
TZNAME:PDT
DTSTART:20280312T100000
END:DAYLIGHT
BEGIN:STANDARD
TZOFFSETFROM:-0700
TZOFFSETTO:-0800
TZNAME:PST
DTSTART:20281105T090000
END:STANDARD
BEGIN:DAYLIGHT
TZOFFSETFROM:-0800
TZOFFSETTO:-0700
TZNAME:PDT
DTSTART:20290311T100000
END:DAYLIGHT
BEGIN:STANDARD
TZOFFSETFROM:-0700
TZOFFSETTO:-0800
TZNAME:PST
DTSTART:20291104T090000
END:STANDARD
END:VTIMEZONE
BEGIN:VEVENT
DTSTART;TZID=America/Los_Angeles:20260108T103000
DTEND;TZID=America/Los_Angeles:20260108T110000
DTSTAMP:20260423T123055
CREATED:20251216T000957Z
LAST-MODIFIED:20251216T000957Z
UID:10000697-1767868200-1767870000@fulcrumleader.com
SUMMARY:New Member Orientation
DESCRIPTION:Welcome to Fulcrum Nonprofit Leadership! We’re so glad you’ve joined our community of senior nonprofit leaders committed to connection\, growth\, and shared learning. \nTo help you get the most out of your membership\, we invite you to join us for a 30-minute New Member Orientation. This will be a chance to: \n\nMeet the Fulcrum team and fellow new members\nLearn about membership benefits\, resources\, and upcoming opportunities\nAsk questions and explore how Fulcrum can best support your leadership journey\n\nWe can’t wait to officially welcome you into the community and hear more about your work. \nIn leadership\,\nChris Looney\, CEO and Founder & Mansi Chokshi\, COO and Co-Founder \n\n\n\n________________________________________________________________________________ \n\n\nJoin Zoom Meeting \nhttps://us06web.zoom.us/j/82198957656?pwd=fPQZh9NRzH2bk7GTiWPCu7GGcBaAo8.1 \nMeeting ID: 821 9895 7656 \nPasscode: 462827
URL:https://fulcrumleader.com/event/new-member-orientation/
ATTACH;FMTTYPE=image/jpeg:https://fulcrumleader.com/wp-content/uploads/2025/11/Welcome-New-Member-Banner-scaled.jpg
LOCATION:https://fulcrumleader.com/event/new-member-orientation/
END:VEVENT
BEGIN:VEVENT
DTSTART;TZID=America/Los_Angeles:20260108T120000
DTEND;TZID=America/Los_Angeles:20260108T130000
DTSTAMP:20260423T123055
CREATED:20251210T182450Z
LAST-MODIFIED:20251216T001331Z
UID:10000695-1767873600-1767877200@fulcrumleader.com
SUMMARY:Fulcrum Exchange: A Member Conversation About Capital Campaigns
DESCRIPTION:Capital Campaigns: Lessons Learned and Real Time Problem Solving\nJoin us for the January Fulcrum Member Exchange featuring Ryan Marshall\, Assistant Vice President for Development at Atrium Health Foundation in Charlotte\, North Carolina. Ryan has spent nearly three decades supporting\, advising\, and managing capital campaigns across sectors and brings a rare blend of practical wisdom\, disciplined strategy\, and lived experience from some of the most complex fundraising environments in the country.\nIn this session\, Ryan will share the 10 most important lessons he has learned about capital campaigns\, including how organizations should evaluate readiness\, build credibility with donors\, set early momentum\, align leadership\, engage volunteers\, and adapt campaign strategy over time.\nThis Fulcrum Exchange is designed as an interactive peer learning forum. After Ryan’s insights\, we will open the floor for a guided conversation where participants can bring their most difficult campaign questions. Together\, Ryan and Chris will help translate real challenges into practical\, actionable strategies that participants can bring back to their organizations.\nWhat You Will Gain\n• A clear understanding of the conditions that define true campaign readiness\n• Insights into feasibility\, early donor engagement\, and how to structure momentum\n• Lessons on navigating complexity\, maintaining adaptability\, and sustaining team performance\n• Practical guidance on campaign strategy from leaders who have managed initiatives of all sizes\n• A trusted space to ask candid questions and get direct\, experience based advice\nWe look forward to an engaging conversation that strengthens your approach to strategy\, donor engagement\, and campaign planning.\nTopic: Fulcrum Exchange: A Member Conversation About Capital Campaigns\nTime: Jan 8\, 2026 12:00 PM Pacific Time (US and Canada)\nJoin Zoom Meeting\nhttps://us06web.zoom.us/j/85167675165?pwd=M93Zx4T1W8Fq11RZfQbhhQzALoAl58.1\n\nMeeting ID: 851 6767 5165\nPasscode: 981702\n\n—\n\nOne tap mobile\n+16694449171\,\,85167675165#\,\,\,\,*981702# US\n+12532050468\,\,85167675165#\,\,\,\,*981702# US\n\nJoin instructions\nhttps://us06web.zoom.us/meetings/85167675165/invitations?signature=cEF505b5tREgyYPjJvfKXx6FAt2Dyd-xu2cKvJyb9Vw
URL:https://fulcrumleader.com/event/fulcrum-exchange-a-member-conversation-about-capital-campaigns/
ATTACH;FMTTYPE=image/jpeg:https://fulcrumleader.com/wp-content/uploads/2025/12/Fulcrum-Exchange-Jan-8.jpg
LOCATION:https://us06web.zoom.us/j/85167675165?pwd=M93Zx4T1W8Fq11RZfQbhhQzALoAl58.1
END:VEVENT
BEGIN:VEVENT
DTSTART;TZID=America/Los_Angeles:20260122T110000
DTEND;TZID=America/Los_Angeles:20260122T120000
DTSTAMP:20260423T123055
CREATED:20251216T001727Z
LAST-MODIFIED:20251216T001727Z
UID:10000698-1769079600-1769083200@fulcrumleader.com
SUMMARY:Fulcrum Member Huddle
DESCRIPTION:
URL:https://fulcrumleader.com/event/fulcrum-member-huddle/
ATTACH;FMTTYPE=image/jpeg:https://fulcrumleader.com/wp-content/uploads/2025/12/Monthly-Huddle-Graphic.jpg
END:VEVENT
BEGIN:VEVENT
DTSTART;TZID=America/Los_Angeles:20260129T083000
DTEND;TZID=America/Los_Angeles:20260129T100000
DTSTAMP:20260423T123055
CREATED:20251211T220302Z
LAST-MODIFIED:20251214T183857Z
UID:10000696-1769675400-1769680800@fulcrumleader.com
SUMMARY:Orange County Chapter Meeting and Launch Event
DESCRIPTION:If you have trouble viewing the flyer above\, please click this link: OC Chapter Launch Event \nIf you have any questions about the event or need assistance with the process\, please don’t hesitate to reach out – hello@fulcrumleader.com. We’re here to help! \nPlease note that all registrations are final; we are unable to offer refunds or accept cancellations. We appreciate your understanding and look forward to welcoming you to the event.
URL:https://fulcrumleader.com/event/orange-county-chapter/
LOCATION:Orange County United Way\, 18012 Mitchell South\, Irvine\, CA\, 92614\, United States
ORGANIZER;CN="Fulcrum Nonprofit Leadership":MAILTO:hello@fulcrumleader.com
END:VEVENT
BEGIN:VEVENT
DTSTART;TZID=America/Los_Angeles:20260305T090000
DTEND;TZID=America/Los_Angeles:20260305T100000
DTSTAMP:20260423T123055
CREATED:20260224T004223Z
LAST-MODIFIED:20260224T004223Z
UID:10000703-1772701200-1772704800@fulcrumleader.com
SUMMARY:Fulcrum Member Exchange: Preparing Emerging Nonprofit Leaders to Manage People Well
DESCRIPTION:Fulcrum Member Exchanges are designed for deeper dialogue\, peer learning\, and candid conversation around the real challenges nonprofit leaders face. These sessions create space for members to learn from one another and from experienced practitioners.\n\nAt this March Exchange\, Kyle Houlton\, Major Nesan Kistan\, and Justin Coleman will lead a discussion focused on a leadership challenge many nonprofit organizations underestimate: preparing leaders to manage people well.\nNewly promoted executives are often elevated because they were outstanding individual contributors\, not because they were trained to lead and manage others. This Exchange will explore two connected themes:\n\nPart I: What makes an outstanding people manager in the nonprofit sector\n\n\nShifting from individual contribution to enabling others\n\n\nBalancing psychological safety with accountability\n\n\nGiving feedback that develops people\, not just evaluates them\n\n\nManaging motivation\, burnout\, and mission-driven intensity\n\n\nPart II: How senior leaders can better prepare new executives for managing people\n\n\nWhy promotion without preparation creates risk\n\n\nMaking the unspoken expectations of leadership explicit\n\n\nUsing coaching\, peer learning\, and intentional development\n\n\nRedefining success for newly minted executives\n\n\nThis will be a facilitated\, interactive conversation designed for experienced nonprofit leaders who want to strengthen team performance\, organizational culture\, and leadership pipelines.\nTopic: Fulcrum Member Exchange –\nTime: Mar 5\, 2026 09:00 AM Pacific Time (US and Canada)\nJoin Zoom Meeting\nhttps://us06web.zoom.us/j/82199212694?pwd=5uC4r1MgxhtzPUmpfv4PWzKwTKTu7C.1\n\nMeeting ID: 821 9921 2694\nPasscode: 323278\n\n—\n\nOne tap mobile\n+16694449171\,\,82199212694#\,\,\,\,*323278# US\n+12532158782\,\,82199212694#\,\,\,\,*323278# US (Tacoma)\n\nJoin instructions\nhttps://us06web.zoom.us/meetings/82199212694/invitations?signature=K-E1MZv_mNXKnhxTTPHfwMChqwgclaAUVUtEJASq7So
URL:https://fulcrumleader.com/event/fulcrum-member-exchange-preparing-emerging-nonprofit-leaders-to-manage-people-well/
ATTACH;FMTTYPE=image/jpeg:https://fulcrumleader.com/wp-content/uploads/2026/02/Fulcrum-Exchange-Mar-5.jpg
LOCATION:https://us06web.zoom.us/j/82199212694?pwd=5uC4r1MgxhtzPUmpfv4PWzKwTKTu7C.1
END:VEVENT
BEGIN:VEVENT
DTSTART;TZID=America/Los_Angeles:20260325T100000
DTEND;TZID=America/Los_Angeles:20260325T120000
DTSTAMP:20260423T123056
CREATED:20260215T212842Z
LAST-MODIFIED:20260226T213705Z
UID:10000702-1774432800-1774440000@fulcrumleader.com
SUMMARY:Hiring with Confidence: Tools for Building the Right Team (People Management Foundations)
DESCRIPTION:Course – Hiring with Confidence: Tools for Building the Right Team (People Management Foundations) \nDate/Time \nWednesday\, March 25 \n10:00AM to 12:00PM Pacific Time \nCost \n$50 Members/ $100 Non-Members \nCourse Description \nHiring is one of the most consequential responsibilities an emerging nonprofit leader takes on and one of the least formally taught. \nThis interactive training is designed for nonprofit professionals who are beginning to hire staff\, participate in hiring decisions\, or influence hiring outcomes on their teams. The session moves beyond job descriptions and resumes to focus on how leaders make thoughtful\, equitable\, and mission aligned hiring decisions. \nParticipants will explore how to clarify what a role truly needs\, design hiring processes that reduce bias\, conduct interviews that surface real capability\, and make decisions they can stand behind. The training will also address common hiring challenges in nonprofits\, including limited budgets\, urgency to fill roles\, internal promotions\, and navigating organizational culture. \nSupervisors will find this session especially valuable for emerging leaders who are stepping into people management for the first time and need shared language\, tools\, and confidence to hire well. \nThis session is practical\, reflective\, and grounded in real nonprofit scenarios. Participants will leave with frameworks\, sample questions\, and a clearer understanding of their role in building strong teams. \nIf Image does not load correctly\, please copy and paste this link in your browser to review the event flyer: https://fulcrumleader.com/wp-content/uploads/2026/02/FLI-Hiring-scaled.jpg
URL:https://fulcrumleader.com/event/people-management-hiring/
LOCATION:VIA ZOOM – LINK SENT AFTER REGISTRATION
CATEGORIES:Nonprofit Leader Certification Program
ATTACH;FMTTYPE=image/jpeg:https://fulcrumleader.com/wp-content/uploads/2026/02/FLI-Hiring-scaled.jpg
END:VEVENT
BEGIN:VEVENT
DTSTART;TZID=America/Los_Angeles:20260326T083000
DTEND;TZID=America/Los_Angeles:20260326T103000
DTSTAMP:20260423T123056
CREATED:20260215T034250Z
LAST-MODIFIED:20260324T012617Z
UID:10000701-1774513800-1774521000@fulcrumleader.com
SUMMARY:Los Angeles Chapter Meeting and Launch Event
DESCRIPTION:  \nPlease note this event has been postponed and will not happen on Thursday\, March 26 as previously advertised. We’re very sorry about this inconvenience. If you have any questions\, please don’t hesitate to reach out – hello@fulcrumleader.com. We’re here to help!
URL:https://fulcrumleader.com/event/losangeles-chapter-meeting/
ORGANIZER;CN="Fulcrum Nonprofit Leadership":MAILTO:hello@fulcrumleader.com
END:VEVENT
BEGIN:VEVENT
DTSTART;TZID=America/Los_Angeles:20260407T130000
DTEND;TZID=America/Los_Angeles:20260407T140000
DTSTAMP:20260423T123056
CREATED:20260323T205433Z
LAST-MODIFIED:20260323T205433Z
UID:10000706-1775566800-1775570400@fulcrumleader.com
SUMMARY:Fulcrum Member Exchange | Building Healthy Teams: Overcoming the Five Dysfunctions in Nonprofit Leadership Featuring LaVal Brewer
DESCRIPTION:High performing nonprofit organizations are built on healthy teams. Yet even the most mission driven leadership groups can struggle with trust\, conflict\, accountability\, and alignment.\n\nAt our April Fulcrum Member Exchange\, LaVal Brewer will guide a practical and candid conversation using Patrick Lencioni’s framework from The Five Dysfunctions of a Team. Together\, we will explore how these common dysfunctions show up uniquely in nonprofit leadership environments and what leaders can do to address them before they erode culture and performance.\nThis interactive session will examine:\n\n\nBuilding real trust within executive teams\nEngaging in productive conflict instead of artificial harmony\nStrengthening commitment and clarity in decision making\nCreating peer accountability at the leadership level\nFocusing on collective results over individual priorities\n\n\nFulcrum Member Exchanges are designed for deeper dialogue\, peer learning\, and honest conversation about the real challenges nonprofit leaders face.\nCome prepared to reflect\, contribute\, and leave with practical insights you can immediately apply within your organization.\n\nVia Zoom:  https://us06web.zoom.us/j/84920642101?pwd=eBTpBaaYBprdsRn16HCQyncxS7DmFl.1\n\n\nChristopher “Chris” Looney is inviting you to a scheduled Zoom meeting.\n\nTopic: Fulcrum Member Exchange with Laval Brewer\nTime: Apr 7\, 2026 01:00 PM Pacific Time (US and Canada)\nJoin Zoom Meeting\nhttps://us06web.zoom.us/j/84920642101?pwd=eBTpBaaYBprdsRn16HCQyncxS7DmFl.1\n\nMeeting ID: 849 2064 2101\nPasscode: 544409\n\n—\n\nOne tap mobile\n+16694449171\,\,84920642101#\,\,\,\,*544409# US\n+17207072699\,\,84920642101#\,\,\,\,*544409# US (Denver)\n\nJoin instructions\nhttps://us06web.zoom.us/meetings/84920642101/invitations?signature=QNTrejFKqCj-4UfptSBuT7m3GYV1zVooigFsXn2UDR8
URL:https://fulcrumleader.com/event/fulcrum-member-exchange-building-healthy-teams-overcoming-the-five-dysfunctions-in-nonprofit-leadership-featuring-laval-brewer/
ATTACH;FMTTYPE=image/jpeg:https://fulcrumleader.com/wp-content/uploads/2026/03/Fulcrum-Exchange-Apr-7.jpg
LOCATION:https://us06web.zoom.us/j/84920642101
END:VEVENT
BEGIN:VEVENT
DTSTART;TZID=America/Los_Angeles:20260415T110000
DTEND;TZID=America/Los_Angeles:20260415T130000
DTSTAMP:20260423T123056
CREATED:20260226T213004Z
LAST-MODIFIED:20260226T214050Z
UID:10000704-1776250800-1776258000@fulcrumleader.com
SUMMARY:Performance Reviews and Promotions: Leading Growth with Clarity and Integrity (People Management Foundations)
DESCRIPTION:  \nCourse – Performance Reviews and Promotions: Leading Growth with Clarity and Integrity (People Management Foundations) \nDate/Time \nWednesday\, April 15  \n11:00 AM to 1:00 PM Pacific Time \nCost \n$50 Members/ $100 Non-Members \nCourse Description \nPerformance reviews and promotion decisions are among the most sensitive and influential responsibilities an emerging leader will carry.\nHandled well\, they build trust\, clarity\, and momentum. Handled poorly\, they create confusion\, resentment\, and disengagement.\nThis interactive training equips emerging nonprofit leaders with the tools and mindset required to lead reviews and promotion conversations with fairness\, transparency\, and confidence. Participants will learn how to structure meaningful performance conversations\, give direct and development focused feedback\, evaluate readiness for advancement\, and navigate the organizational and emotional complexity that often accompanies these decisions.\nThe session addresses common nonprofit realities\, including limited advancement pathways\, internal equity concerns\, budget constraints\, and the challenge of balancing compassion with accountability.\n \nSupervisors will find this session especially valuable for managers who are stepping into formal evaluation and promotion decisions for the first time. \nThe training provides shared language\, practical frameworks\, and guardrails that strengthen consistency across teams.\n \nThis is not a theoretical session. It is practical\, scenario based\, and grounded in real nonprofit leadership experiences.\nIf Image does not load correctly\, please copy and paste this link in your browser to review the event flyer: EVENT FLYER
URL:https://fulcrumleader.com/event/promotions/
LOCATION:VIA ZOOM – LINK SENT AFTER REGISTRATION
CATEGORIES:Nonprofit Leader Certification Program
ATTACH;FMTTYPE=image/jpeg:https://fulcrumleader.com/wp-content/uploads/2026/02/FLI-Promtions-Flyer-scaled.jpg
END:VEVENT
BEGIN:VEVENT
DTSTART;TZID=America/Los_Angeles:20260416T110000
DTEND;TZID=America/Los_Angeles:20260416T120000
DTSTAMP:20260423T123056
CREATED:20260323T204824Z
LAST-MODIFIED:20260323T204824Z
UID:10000705-1776337200-1776340800@fulcrumleader.com
SUMMARY:Fulcrum Member Huddle | Fiduciary Duty in the Digital Age
DESCRIPTION:Fulcrum Members\, \nJoin us for our next Fulcrum Member Huddle on Wednesday\, April 16 at 11am PT / 1pm CT / 2pm ET. \nAs nonprofit leaders\, we are making decisions every day about platforms\, data collection\, AI tools\, cybersecurity\, and digital partnerships—often without clearly defined governance frameworks. This session will explore what fiduciary duty looks like in the digital age and how leaders can navigate these responsibilities with confidence and clarity. \nHuddle Agenda\n\n\nFulcrum Updates (10 minutes): Key updates from across the Fulcrum network \n\n\nIndustry Insights (10 minutes): Trends and developments impacting nonprofit leaders \n\n\nNetworking (15 minutes): Small group conversations with fellow members \n\n\nFeatured Presentation (25 minutes): \n\n\n“Fiduciary Duty in the Digital Age for Nonprofits and Nonprofit Leaders”Presented by Jeff Steadman\, Director\, Cyber Security Practice\, and Greg Saraceno\, Manager\, Managed IT/Infrastructure Practice at RSM (www.rsmus.com) \nJeff and Greg will provide practical insights on how nonprofit leaders can think about risk\, governance\, and responsibility in an increasingly digital environment—from cybersecurity and data protection to AI and technology decision-making. \nThis is a timely and important conversation for any leader seeking to protect their organization while leveraging technology for greater impact. \nWe look forward to seeing you there. \nChristopher “Chris” Looney is inviting you to a scheduled Zoom meeting. \nTopic: Fulcrum Member Huddle – Fiduciary Duty in the Digital Age\nTime: Apr 16\, 2026 11:00 AM Pacific Time (US and Canada)\nJoin Zoom Meeting\nhttps://us06web.zoom.us/j/84417833407?pwd=peJERycPc7QtBemaasua9vSlDr4FDB.1 \nMeeting ID: 844 1783 3407\nPasscode: 159223 \n— \nOne tap mobile\n+16694449171\,\,84417833407#\,\,\,\,*159223# US\n+17193594580\,\,84417833407#\,\,\,\,*159223# US \nJoin instructions\nhttps://us06web.zoom.us/meetings/84417833407/invitations?signature=baPP4110EjqLOKwQQNiD7gPFKwRkQVrZN3gkbZfexIc \n 
URL:https://fulcrumleader.com/event/fulcrum-member-huddle-fiduciary-duty-in-the-digital-age/
ATTACH;FMTTYPE=image/jpeg:https://fulcrumleader.com/wp-content/uploads/2026/03/apr-16-member-huddle-Coming-Soon-Ad-scaled.jpg
LOCATION:https://us06web.zoom.us/j/84417833407?pwd=peJERycPc7QtBemaasua9vSlDr4FDB.1
END:VEVENT
BEGIN:VEVENT
DTSTART;TZID=America/Los_Angeles:20260429T110000
DTEND;TZID=America/Los_Angeles:20260429T130000
DTSTAMP:20260423T123056
CREATED:20260324T223913Z
LAST-MODIFIED:20260324T224309Z
UID:10000707-1777460400-1777467600@fulcrumleader.com
SUMMARY:Future Ready: Leading as a Futurist Executive in the Nonprofit Sector
DESCRIPTION:  \nCourse – Future Ready: Leading as a Futurist Executive in the Nonprofit Sector \nDate/Time \nWednesday\, April 29 \n11:00 AM to 1:00 PM Pacific Time \nCost \nFree for Members/ $100 Non-Members \nCourse Description \n\nIn today’s rapidly evolving environment\, nonprofit leaders are called to do more than deliver on current priorities. They are responsible for preparing their organizations\, their teams\, and the communities they serve for a future that is still unfolding. The pace of change\, driven by technology\, shifting workforce dynamics\, and evolving donor expectations\, requires a new kind of leadership\, one that is proactive\, adaptive\, and grounded in long-term vision. \nIn this course\, Robert Santana\, CEO of the Boys & Girls Clubs of Central Orange Coast\, explores what it truly means to lead as a futurist executive. Drawing from his leadership experience and forward-thinking approach\, Robert will challenge participants to move beyond reactive decision-making and instead build organizations that are resilient\, agile\, and positioned for sustained impact. \nParticipants will examine how to prepare teams for a future where many roles do not yet exist\, focusing on developing transferable skills such as critical thinking\, adaptability\, and communication. The course will also explore how leaders can leverage data\, emerging technologies\, and AI to strengthen decision-making\, improve organizational performance\, and better inform boards and stakeholders. \nA central theme of this course is the importance of focusing on what leaders can control while preparing thoughtfully for what they cannot predict. Through practical frameworks and real-world insights\, participants will learn how to guide their organizations through uncertainty with clarity and confidence. \nWhether you are an emerging leader or a seasoned executive\, this course will equip you with the mindset\, tools\, and strategies needed to become future ready and to lead your organization toward a more impactful and sustainable future.  \n\nThis is not a theoretical session. It is practical\, scenario based\, and grounded in real nonprofit leadership experiences.\nIf Image does not load correctly\, please copy and paste this link in your browser to review the event flyer: EVENT FLYER
URL:https://fulcrumleader.com/event/future-ready/
LOCATION:VIA ZOOM – LINK SENT AFTER REGISTRATION
CATEGORIES:Nonprofit Leader Certification Program
ATTACH;FMTTYPE=image/jpeg:https://fulcrumleader.com/wp-content/uploads/2026/03/Fulcrum-Leadership-Institute-Future-Ready-Image-scaled.jpg
ORGANIZER;CN="Fulcrum Nonprofit Leadership":MAILTO:hello@fulcrumleader.com
END:VEVENT
BEGIN:VEVENT
DTSTART;VALUE=DATE:20260701
DTEND;VALUE=DATE:20260702
DTSTAMP:20260423T123056
CREATED:20240616T210634Z
LAST-MODIFIED:20240616T210634Z
UID:10000064-1782864000-1782950399@fulcrumleader.com
SUMMARY:National Nonprofit Leader Day
DESCRIPTION:
URL:https://fulcrumleader.com/event/national-nonprofit-leader-day/2026-07-01/
END:VEVENT
BEGIN:VEVENT
DTSTART;TZID=America/Los_Angeles:20260914T110000
DTEND;TZID=America/Los_Angeles:20260915T150000
DTSTAMP:20260423T123056
CREATED:20251024T024043Z
LAST-MODIFIED:20260203T173059Z
UID:10000561-1789383600-1789484400@fulcrumleader.com
SUMMARY:2026 Fulcrum Nonprofit Leadership Conference
DESCRIPTION:SAVE THE DATE
URL:https://fulcrumleader.com/event/2026-fulcrum-nonprofit-leadership-conference/
ATTACH;FMTTYPE=image/jpeg:https://fulcrumleader.com/wp-content/uploads/2026/02/Save-the-Date-No-Location-scaled.jpg
END:VEVENT
BEGIN:VEVENT
DTSTART;VALUE=DATE:20270701
DTEND;VALUE=DATE:20270702
DTSTAMP:20260423T123056
CREATED:20240616T210634Z
LAST-MODIFIED:20240616T210634Z
UID:10000065-1814400000-1814486399@fulcrumleader.com
SUMMARY:National Nonprofit Leader Day
DESCRIPTION:
URL:https://fulcrumleader.com/event/national-nonprofit-leader-day/2027-07-01/
END:VEVENT
BEGIN:VEVENT
DTSTART;VALUE=DATE:20280701
DTEND;VALUE=DATE:20280702
DTSTAMP:20260423T123056
CREATED:20240616T210634Z
LAST-MODIFIED:20240616T210634Z
UID:10000066-1846022400-1846108799@fulcrumleader.com
SUMMARY:National Nonprofit Leader Day
DESCRIPTION:
URL:https://fulcrumleader.com/event/national-nonprofit-leader-day/2028-07-01/
END:VEVENT
END:VCALENDAR