BEGIN:VCALENDAR
VERSION:2.0
PRODID:-//Fulcrum Nonprofit Leadership - ECPv6.15.17//NONSGML v1.0//EN
CALSCALE:GREGORIAN
METHOD:PUBLISH
X-ORIGINAL-URL:https://fulcrumleader.com
X-WR-CALDESC:Events for Fulcrum Nonprofit Leadership
REFRESH-INTERVAL;VALUE=DURATION:PT1H
X-Robots-Tag:noindex
X-PUBLISHED-TTL:PT1H
BEGIN:VTIMEZONE
TZID:America/Los_Angeles
BEGIN:DAYLIGHT
TZOFFSETFROM:-0800
TZOFFSETTO:-0700
TZNAME:PDT
DTSTART:20240310T100000
END:DAYLIGHT
BEGIN:STANDARD
TZOFFSETFROM:-0700
TZOFFSETTO:-0800
TZNAME:PST
DTSTART:20241103T090000
END:STANDARD
BEGIN:DAYLIGHT
TZOFFSETFROM:-0800
TZOFFSETTO:-0700
TZNAME:PDT
DTSTART:20250309T100000
END:DAYLIGHT
BEGIN:STANDARD
TZOFFSETFROM:-0700
TZOFFSETTO:-0800
TZNAME:PST
DTSTART:20251102T090000
END:STANDARD
BEGIN:DAYLIGHT
TZOFFSETFROM:-0800
TZOFFSETTO:-0700
TZNAME:PDT
DTSTART:20260308T100000
END:DAYLIGHT
BEGIN:STANDARD
TZOFFSETFROM:-0700
TZOFFSETTO:-0800
TZNAME:PST
DTSTART:20261101T090000
END:STANDARD
END:VTIMEZONE
BEGIN:VEVENT
DTSTART;TZID=America/Los_Angeles:20251202T100000
DTEND;TZID=America/Los_Angeles:20251202T110000
DTSTAMP:20260423T075901
CREATED:20251121T014638Z
LAST-MODIFIED:20251121T193902Z
UID:10000688-1764669600-1764673200@fulcrumleader.com
SUMMARY:Fulcrum Exchange - A Member Discussion on the Partnership Between the CEO and CDO
DESCRIPTION:Join Chris Looney\, Dawn S. Reese\, CFRE (CEO\, The Wooden Floor)\, and Tianna R. Haradon\, CFRE (Chief Development Officer\, The Wooden Floor) for an in-depth Fulcrum Exchange dialogue exploring one of the most essential relationships in nonprofit leadership: the partnership between the CEO and CDO.\nTogether\, they’ll share insights\, real-world experiences\, and practical strategies for strengthening collaboration between executive and development leaders to create a true culture of philanthropy—one that drives engagement\, trust\, and transformational fundraising success.\nExpect an open and interactive conversation where members can exchange ideas\, ask questions\, and reflect on how to elevate this critical partnership within their own organizations.\nThis session will explore:\n\n\nWhat makes the CEO–CDO relationship thrive (and what can derail it)\n\n\nHow to align leadership\, board\, and staff around shared fundraising goals\n\n\nWays to model and sustain a culture of philanthropy across the organization\n\n\nThis promises to be an inspiring and practical session you won’t want to miss.\n🗓 Date: Tuesday\, December 2\n🕒 Time: 10am PT / 12pm CT / 1pm ET\n🔗 Zoom Link: https://us06web.zoom.us/j/88593915499?pwd=wn82xucmNBUbQujMiPIbAFErJiIkax.1
URL:https://fulcrumleader.com/event/fulcrum-exchange-a-member-discussion-on-the-partnership-between-the-ceo-and-cdo/
ATTACH;FMTTYPE=image/jpeg:https://fulcrumleader.com/wp-content/uploads/2025/11/Fulcrum-Exchange-Dec-2.jpg
LOCATION:
END:VEVENT
BEGIN:VEVENT
DTSTART;TZID=America/Los_Angeles:20251212T110000
DTEND;TZID=America/Los_Angeles:20251212T120000
DTSTAMP:20260423T075901
CREATED:20251205T004211Z
LAST-MODIFIED:20251205T004430Z
UID:10000693-1765537200-1765540800@fulcrumleader.com
SUMMARY:Fulcrum Member Huddle
DESCRIPTION:Join us for the final Fulcrum Member Huddle of the 2025 program year on Friday\, December 12 at 11am PT / 2pm ET.\nThis session will include:\n\n\nSector Updates: Key trends and developments across the nonprofit landscape.\n\n\nNetworking: Connect with fellow Fulcrum Members from across the country.\n\n\nFeatured Speaker: Tim Davis\, President of  Click Davis and Associates\, will present “Everything You Need to Know About Mergers and Acquisitions in the Nonprofit Sector.”\n\n\nMergers and acquisitions are becoming a critical tool for sustainability\, growth\, and mission alignment in today’s evolving environment. Tim will unpack what leaders need to know to navigate these opportunities successfully.\nYou won’t want to miss this final Fulcrum Member gathering of the year — a perfect way to close 2025 with insight\, connection\, and inspiration.\n📅 Friday\, December 12\, 2025\n🕚 11am PT / 2pm ET
URL:https://fulcrumleader.com/event/fulcrum-member-huddle__trashed/
END:VEVENT
BEGIN:VEVENT
DTSTART;VALUE=DATE:20251213
DTEND;VALUE=DATE:20251214
DTSTAMP:20260423T075901
CREATED:20251205T003113Z
LAST-MODIFIED:20251205T003113Z
UID:10000683-1765584000-1765670399@fulcrumleader.com
SUMMARY:National Unity Day (www.us-united.org)
DESCRIPTION:Support Fulcrum member Adam Mizel (CEO of US United) and a great cause. \nwww.US-united.org
URL:https://fulcrumleader.com/event/national-unity-day-www-us-united-org__trashed-2/
ATTACH;FMTTYPE=image/png:https://fulcrumleader.com/wp-content/uploads/2025/11/National-Unity-Day.png
END:VEVENT
BEGIN:VEVENT
DTSTART;TZID=America/Los_Angeles:20251218T103000
DTEND;TZID=America/Los_Angeles:20251218T110000
DTSTAMP:20260423T075901
CREATED:20251205T004607Z
LAST-MODIFIED:20251205T004846Z
UID:10000694-1766053800-1766055600@fulcrumleader.com
SUMMARY:New Member Orientation
DESCRIPTION:Welcome to Fulcrum Nonprofit Leadership! We’re so glad you’ve joined our community of senior nonprofit leaders committed to connection\, growth\, and shared learning. \nTo help you get the most out of your membership\, we invite you to join us for a 30-minute New Member Orientation. This will be a chance to: \n\nMeet the Fulcrum team and fellow new members\nLearn about membership benefits\, resources\, and upcoming opportunities\nAsk questions and explore how Fulcrum can best support your leadership journey\n\nWe can’t wait to officially welcome you into the community and hear more about your work. \nIn leadership\,\nChris Looney\, CEO and Founder & Mansi Chokshi\, COO and Co-Founder \n\n\n\n________________________________________________________________________________ \n\n\nJoin Zoom Meeting \nhttps://us06web.zoom.us/j/82198957656?pwd=fPQZh9NRzH2bk7GTiWPCu7GGcBaAo8.1 \nMeeting ID: 821 9895 7656 \nPasscode: 462827
URL:https://fulcrumleader.com/event/new-member-orientation__trashed/
ATTACH;FMTTYPE=image/jpeg:https://fulcrumleader.com/wp-content/uploads/2025/11/Welcome-New-Member-Banner-scaled.jpg
END:VEVENT
END:VCALENDAR