BEGIN:VCALENDAR
VERSION:2.0
PRODID:-//Fulcrum Nonprofit Leadership - ECPv6.15.17//NONSGML v1.0//EN
CALSCALE:GREGORIAN
METHOD:PUBLISH
X-ORIGINAL-URL:https://fulcrumleader.com
X-WR-CALDESC:Events for Fulcrum Nonprofit Leadership
REFRESH-INTERVAL;VALUE=DURATION:PT1H
X-Robots-Tag:noindex
X-PUBLISHED-TTL:PT1H
BEGIN:VTIMEZONE
TZID:America/Los_Angeles
BEGIN:DAYLIGHT
TZOFFSETFROM:-0800
TZOFFSETTO:-0700
TZNAME:PDT
DTSTART:20250309T100000
END:DAYLIGHT
BEGIN:STANDARD
TZOFFSETFROM:-0700
TZOFFSETTO:-0800
TZNAME:PST
DTSTART:20251102T090000
END:STANDARD
BEGIN:DAYLIGHT
TZOFFSETFROM:-0800
TZOFFSETTO:-0700
TZNAME:PDT
DTSTART:20260308T100000
END:DAYLIGHT
BEGIN:STANDARD
TZOFFSETFROM:-0700
TZOFFSETTO:-0800
TZNAME:PST
DTSTART:20261101T090000
END:STANDARD
BEGIN:DAYLIGHT
TZOFFSETFROM:-0800
TZOFFSETTO:-0700
TZNAME:PDT
DTSTART:20270314T100000
END:DAYLIGHT
BEGIN:STANDARD
TZOFFSETFROM:-0700
TZOFFSETTO:-0800
TZNAME:PST
DTSTART:20271107T090000
END:STANDARD
END:VTIMEZONE
BEGIN:VEVENT
DTSTART;TZID=America/Los_Angeles:20260108T103000
DTEND;TZID=America/Los_Angeles:20260108T110000
DTSTAMP:20260423T064129
CREATED:20251216T000957Z
LAST-MODIFIED:20251216T000957Z
UID:10000697-1767868200-1767870000@fulcrumleader.com
SUMMARY:New Member Orientation
DESCRIPTION:Welcome to Fulcrum Nonprofit Leadership! We’re so glad you’ve joined our community of senior nonprofit leaders committed to connection\, growth\, and shared learning. \nTo help you get the most out of your membership\, we invite you to join us for a 30-minute New Member Orientation. This will be a chance to: \n\nMeet the Fulcrum team and fellow new members\nLearn about membership benefits\, resources\, and upcoming opportunities\nAsk questions and explore how Fulcrum can best support your leadership journey\n\nWe can’t wait to officially welcome you into the community and hear more about your work. \nIn leadership\,\nChris Looney\, CEO and Founder & Mansi Chokshi\, COO and Co-Founder \n\n\n\n________________________________________________________________________________ \n\n\nJoin Zoom Meeting \nhttps://us06web.zoom.us/j/82198957656?pwd=fPQZh9NRzH2bk7GTiWPCu7GGcBaAo8.1 \nMeeting ID: 821 9895 7656 \nPasscode: 462827
URL:https://fulcrumleader.com/event/new-member-orientation/
ATTACH;FMTTYPE=image/jpeg:https://fulcrumleader.com/wp-content/uploads/2025/11/Welcome-New-Member-Banner-scaled.jpg
LOCATION:https://fulcrumleader.com/event/new-member-orientation/
END:VEVENT
BEGIN:VEVENT
DTSTART;TZID=America/Los_Angeles:20260108T120000
DTEND;TZID=America/Los_Angeles:20260108T130000
DTSTAMP:20260423T064129
CREATED:20251210T182450Z
LAST-MODIFIED:20251216T001331Z
UID:10000695-1767873600-1767877200@fulcrumleader.com
SUMMARY:Fulcrum Exchange: A Member Conversation About Capital Campaigns
DESCRIPTION:Capital Campaigns: Lessons Learned and Real Time Problem Solving\nJoin us for the January Fulcrum Member Exchange featuring Ryan Marshall\, Assistant Vice President for Development at Atrium Health Foundation in Charlotte\, North Carolina. Ryan has spent nearly three decades supporting\, advising\, and managing capital campaigns across sectors and brings a rare blend of practical wisdom\, disciplined strategy\, and lived experience from some of the most complex fundraising environments in the country.\nIn this session\, Ryan will share the 10 most important lessons he has learned about capital campaigns\, including how organizations should evaluate readiness\, build credibility with donors\, set early momentum\, align leadership\, engage volunteers\, and adapt campaign strategy over time.\nThis Fulcrum Exchange is designed as an interactive peer learning forum. After Ryan’s insights\, we will open the floor for a guided conversation where participants can bring their most difficult campaign questions. Together\, Ryan and Chris will help translate real challenges into practical\, actionable strategies that participants can bring back to their organizations.\nWhat You Will Gain\n• A clear understanding of the conditions that define true campaign readiness\n• Insights into feasibility\, early donor engagement\, and how to structure momentum\n• Lessons on navigating complexity\, maintaining adaptability\, and sustaining team performance\n• Practical guidance on campaign strategy from leaders who have managed initiatives of all sizes\n• A trusted space to ask candid questions and get direct\, experience based advice\nWe look forward to an engaging conversation that strengthens your approach to strategy\, donor engagement\, and campaign planning.\nTopic: Fulcrum Exchange: A Member Conversation About Capital Campaigns\nTime: Jan 8\, 2026 12:00 PM Pacific Time (US and Canada)\nJoin Zoom Meeting\nhttps://us06web.zoom.us/j/85167675165?pwd=M93Zx4T1W8Fq11RZfQbhhQzALoAl58.1\n\nMeeting ID: 851 6767 5165\nPasscode: 981702\n\n—\n\nOne tap mobile\n+16694449171\,\,85167675165#\,\,\,\,*981702# US\n+12532050468\,\,85167675165#\,\,\,\,*981702# US\n\nJoin instructions\nhttps://us06web.zoom.us/meetings/85167675165/invitations?signature=cEF505b5tREgyYPjJvfKXx6FAt2Dyd-xu2cKvJyb9Vw
URL:https://fulcrumleader.com/event/fulcrum-exchange-a-member-conversation-about-capital-campaigns/
ATTACH;FMTTYPE=image/jpeg:https://fulcrumleader.com/wp-content/uploads/2025/12/Fulcrum-Exchange-Jan-8.jpg
LOCATION:https://us06web.zoom.us/j/85167675165?pwd=M93Zx4T1W8Fq11RZfQbhhQzALoAl58.1
END:VEVENT
BEGIN:VEVENT
DTSTART;TZID=America/Los_Angeles:20260122T110000
DTEND;TZID=America/Los_Angeles:20260122T120000
DTSTAMP:20260423T064129
CREATED:20251216T001727Z
LAST-MODIFIED:20251216T001727Z
UID:10000698-1769079600-1769083200@fulcrumleader.com
SUMMARY:Fulcrum Member Huddle
DESCRIPTION:
URL:https://fulcrumleader.com/event/fulcrum-member-huddle/
ATTACH;FMTTYPE=image/jpeg:https://fulcrumleader.com/wp-content/uploads/2025/12/Monthly-Huddle-Graphic.jpg
END:VEVENT
BEGIN:VEVENT
DTSTART;TZID=America/Los_Angeles:20260129T083000
DTEND;TZID=America/Los_Angeles:20260129T100000
DTSTAMP:20260423T064129
CREATED:20251211T220302Z
LAST-MODIFIED:20251214T183857Z
UID:10000696-1769675400-1769680800@fulcrumleader.com
SUMMARY:Orange County Chapter Meeting and Launch Event
DESCRIPTION:If you have trouble viewing the flyer above\, please click this link: OC Chapter Launch Event \nIf you have any questions about the event or need assistance with the process\, please don’t hesitate to reach out – hello@fulcrumleader.com. We’re here to help! \nPlease note that all registrations are final; we are unable to offer refunds or accept cancellations. We appreciate your understanding and look forward to welcoming you to the event.
URL:https://fulcrumleader.com/event/orange-county-chapter/
LOCATION:Orange County United Way\, 18012 Mitchell South\, Irvine\, CA\, 92614\, United States
ORGANIZER;CN="Fulcrum Nonprofit Leadership":MAILTO:hello@fulcrumleader.com
END:VEVENT
END:VCALENDAR